BEGIN:VCALENDAR
VERSION:2.0
PRODID:-//beatricemethodist.org//NONSGML kigkonsult.se iCalcreator 2.30.10/
 /
CALSCALE:GREGORIAN
METHOD:PUBLISH
UID:3a4d806f-f849-4d13-9e85-41d5e5d8501d
X-WR-CALDESC:Grades 6-12 meet from 6:30-7:30.  A typical youth group meetin
 g includes a game and a bible lesson or devotion. Outings and service proj
 ects are done each semester.
X-WR-RELCALID:8e81d14a68de5fc6924f1332eb85a23f
X-WR-TIMEZONE:America/Chicago
BEGIN:VTIMEZONE
TZID:America/Chicago
BEGIN:STANDARD
TZNAME:CST
DTSTART:20251102T020000
TZOFFSETFROM:-0500
TZOFFSETTO:-0600
RDATE:20261101T020000
END:STANDARD
BEGIN:DAYLIGHT
TZNAME:CDT
DTSTART:20260308T020000
TZOFFSETFROM:-0600
TZOFFSETTO:-0500
RDATE:20270314T020000
END:DAYLIGHT
END:VTIMEZONE
BEGIN:VEVENT
UID:f9fc8edc-d5ae-4928-b289-651150c5f3db
DTSTAMP:20260422T011420Z
DESCRIPTION:Grades 6-12 meet from 6:30-7:30.  A typical youth group meeting
  includes a game and a bible lesson or devotion. Outings and service proje
 cts are done each semester.
DTSTART;TZID=America/Chicago:20260422T183000
DTEND;TZID=America/Chicago:20260422T193000
LOCATION:Dining Room
SUMMARY:Youth Group-Grades 6-12
END:VEVENT
END:VCALENDAR
