BEGIN:VCALENDAR
VERSION:2.0
PRODID:-//beatricemethodist.org//NONSGML kigkonsult.se iCalcreator 2.30.10/
 /
CALSCALE:GREGORIAN
METHOD:PUBLISH
UID:257c1d7d-0535-41bf-a494-11ff56ce5111
X-WR-CALDESC:
X-WR-RELCALID:47e4b7d6c9e7e433db591faaca154917
X-WR-TIMEZONE:America/Chicago
BEGIN:VTIMEZONE
TZID:America/Chicago
BEGIN:STANDARD
TZNAME:CST
DTSTART:20251102T020000
TZOFFSETFROM:-0500
TZOFFSETTO:-0600
RDATE:20261101T020000
END:STANDARD
BEGIN:DAYLIGHT
TZNAME:CDT
DTSTART:20260308T020000
TZOFFSETFROM:-0600
TZOFFSETTO:-0500
RDATE:20270314T020000
END:DAYLIGHT
END:VTIMEZONE
BEGIN:VEVENT
UID:dcc3ece6-4bc9-4295-9d2f-ec0fa84fb2fa
DTSTAMP:20260422T011328Z
DESCRIPTION:
DTSTART;TZID=America/Chicago:20260422T190000
DTEND;TZID=America/Chicago:20260422T200000
LOCATION:Sanctuary
SUMMARY:Chancel Choir
END:VEVENT
END:VCALENDAR
