BEGIN:VCALENDAR
VERSION:2.0
PRODID:-//beatricemethodist.org//NONSGML kigkonsult.se iCalcreator 2.30.10/
 /
CALSCALE:GREGORIAN
METHOD:PUBLISH
UID:8ad608d6-09e2-4cd6-bdab-ef5158459d89
X-WR-CALDESC:
X-WR-RELCALID:6f4178bc52b4c57bb9c98b9eb04bb10c
X-WR-TIMEZONE:America/Chicago
BEGIN:VTIMEZONE
TZID:America/Chicago
BEGIN:STANDARD
TZNAME:CST
DTSTART:20251102T020000
TZOFFSETFROM:-0500
TZOFFSETTO:-0600
RDATE:20261101T020000
END:STANDARD
BEGIN:DAYLIGHT
TZNAME:CDT
DTSTART:20260308T020000
TZOFFSETFROM:-0600
TZOFFSETTO:-0500
RDATE:20270314T020000
END:DAYLIGHT
END:VTIMEZONE
BEGIN:VEVENT
UID:3666eb0a-52db-49fa-aa22-581b6c1684dd
DTSTAMP:20260422T011349Z
DESCRIPTION:
DTSTART;TZID=America/Chicago:20260423T103000
DTEND;TZID=America/Chicago:20260423T113000
LOCATION:High School Room
SUMMARY:Thursday Morning Bible Study
END:VEVENT
END:VCALENDAR
