BEGIN:VCALENDAR
VERSION:2.0
PRODID:-//beatricemethodist.org//NONSGML kigkonsult.se iCalcreator 2.30.10/
 /
CALSCALE:GREGORIAN
METHOD:PUBLISH
UID:c1beed71-2160-4405-872f-64701dfab581
X-WR-CALDESC:
X-WR-RELCALID:d3e28a14610f2ed9e86bcc217badf5d4
X-WR-TIMEZONE:America/Chicago
BEGIN:VTIMEZONE
TZID:America/Chicago
BEGIN:STANDARD
TZNAME:CST
DTSTART:20251102T020000
TZOFFSETFROM:-0500
TZOFFSETTO:-0600
RDATE:20261101T020000
END:STANDARD
BEGIN:DAYLIGHT
TZNAME:CDT
DTSTART:20260308T020000
TZOFFSETFROM:-0600
TZOFFSETTO:-0500
RDATE:20270314T020000
END:DAYLIGHT
END:VTIMEZONE
BEGIN:VEVENT
UID:2bd0497e-a309-432d-a5a5-14663206bd71
DTSTAMP:20260422T011349Z
DESCRIPTION:
DTSTART;TZID=America/Chicago:20260426T050000
DTEND;TZID=America/Chicago:20260426T050001
LOCATION:608 Elk St\, Beatrice\, NE 68310 US
SUMMARY:10:00 Sunday Service
END:VEVENT
END:VCALENDAR
