BEGIN:VCALENDAR
VERSION:2.0
PRODID:-//beatricemethodist.org//NONSGML kigkonsult.se iCalcreator 2.30.10/
 /
CALSCALE:GREGORIAN
METHOD:PUBLISH
UID:0d2b0b60-5456-476a-9112-1f0d92f64b45
X-WR-CALDESC:
X-WR-RELCALID:319cdcbc5a1fcde5a6caad1dcd5a169d
X-WR-TIMEZONE:America/Chicago
BEGIN:VTIMEZONE
TZID:America/Chicago
BEGIN:STANDARD
TZNAME:CST
DTSTART:20251102T020000
TZOFFSETFROM:-0500
TZOFFSETTO:-0600
RDATE:20261101T020000
END:STANDARD
BEGIN:DAYLIGHT
TZNAME:CDT
DTSTART:20260308T020000
TZOFFSETFROM:-0600
TZOFFSETTO:-0500
RDATE:20270314T020000
END:DAYLIGHT
END:VTIMEZONE
BEGIN:VEVENT
UID:acb80f5c-db13-4b44-8a8b-fbdf890801f7
DTSTAMP:20260422T010623Z
DESCRIPTION:
DTSTART;TZID=America/Chicago:20260427T194500
DTEND;TZID=America/Chicago:20260427T204500
LOCATION:Dining Room
SUMMARY:Administrative Council
END:VEVENT
END:VCALENDAR
