BEGIN:VCALENDAR
VERSION:2.0
PRODID:-//beatricemethodist.org//NONSGML kigkonsult.se iCalcreator 2.30.10/
 /
CALSCALE:GREGORIAN
METHOD:PUBLISH
UID:facedac9-6366-4db0-adf7-61b07ab8ca4a
X-WR-CALDESC:
X-WR-RELCALID:7176c9d4f91a895e59c4dc918ae28bb3
X-WR-TIMEZONE:America/Chicago
BEGIN:VTIMEZONE
TZID:America/Chicago
BEGIN:STANDARD
TZNAME:CST
DTSTART:20251102T020000
TZOFFSETFROM:-0500
TZOFFSETTO:-0600
RDATE:20261101T020000
END:STANDARD
BEGIN:DAYLIGHT
TZNAME:CDT
DTSTART:20260308T020000
TZOFFSETFROM:-0600
TZOFFSETTO:-0500
RDATE:20270314T020000
END:DAYLIGHT
END:VTIMEZONE
BEGIN:VEVENT
UID:ff3939bc-614e-4012-b330-7862c267df0c
DTSTAMP:20260422T011047Z
DESCRIPTION:
DTSTART;TZID=America/Chicago:20260503T000000
DTEND;TZID=America/Chicago:20260503T235900
LOCATION:Sanctuary
SUMMARY:Communion Sunday--all are welcome
END:VEVENT
END:VCALENDAR
