BEGIN:VCALENDAR
VERSION:2.0
PRODID:-//beatricemethodist.org//NONSGML kigkonsult.se iCalcreator 2.30.10/
 /
CALSCALE:GREGORIAN
METHOD:PUBLISH
UID:a0262d5b-dbd6-4c20-aae6-0598120bdd6e
X-WR-CALDESC:
X-WR-RELCALID:44fe6b2b5620dc3fb58c616f0a6ca427
X-WR-TIMEZONE:America/Chicago
BEGIN:VTIMEZONE
TZID:America/Chicago
BEGIN:STANDARD
TZNAME:CST
DTSTART:20251102T020000
TZOFFSETFROM:-0500
TZOFFSETTO:-0600
RDATE:20261101T020000
END:STANDARD
BEGIN:DAYLIGHT
TZNAME:CDT
DTSTART:20260308T020000
TZOFFSETFROM:-0600
TZOFFSETTO:-0500
RDATE:20270314T020000
END:DAYLIGHT
END:VTIMEZONE
BEGIN:VEVENT
UID:df4aa9ca-5000-429f-820d-c0f97c732184
DTSTAMP:20260422T010624Z
DESCRIPTION:
DTSTART;TZID=America/Chicago:20260506T120000
DTEND;TZID=America/Chicago:20260506T130000
LOCATION:
SUMMARY:Bulletin deadline
END:VEVENT
END:VCALENDAR
