BEGIN:VCALENDAR
VERSION:2.0
PRODID:-//beatricemethodist.org//NONSGML kigkonsult.se iCalcreator 2.30.10/
 /
CALSCALE:GREGORIAN
METHOD:PUBLISH
UID:01ee0174-50c6-462e-b80c-491c0d9e9f24
X-WR-CALDESC:
X-WR-RELCALID:c8bf4a10933fae0331929f3ac70bfbca
X-WR-TIMEZONE:America/Chicago
BEGIN:VTIMEZONE
TZID:America/Chicago
BEGIN:STANDARD
TZNAME:CST
DTSTART:20251102T020000
TZOFFSETFROM:-0500
TZOFFSETTO:-0600
RDATE:20261101T020000
END:STANDARD
BEGIN:DAYLIGHT
TZNAME:CDT
DTSTART:20260308T020000
TZOFFSETFROM:-0600
TZOFFSETTO:-0500
RDATE:20270314T020000
END:DAYLIGHT
END:VTIMEZONE
BEGIN:VEVENT
UID:7484f059-fd5f-4b68-a50c-f15e7d50983a
DTSTAMP:20260422T010950Z
DESCRIPTION:
DTSTART;TZID=America/Chicago:20260506T173000
DTEND;TZID=America/Chicago:20260506T183000
LOCATION:Sojourner's Room
SUMMARY:Bible Club
END:VEVENT
END:VCALENDAR
