BEGIN:VCALENDAR
VERSION:2.0
PRODID:-//beatricemethodist.org//NONSGML kigkonsult.se iCalcreator 2.30.10/
 /
CALSCALE:GREGORIAN
METHOD:PUBLISH
UID:823036da-9407-4c91-97f9-7eaca41895a6
X-WR-CALDESC:
X-WR-RELCALID:5a993d68aace18e9561e26e5e572c97f
X-WR-TIMEZONE:America/Chicago
BEGIN:VTIMEZONE
TZID:America/Chicago
BEGIN:STANDARD
TZNAME:CST
DTSTART:20251102T020000
TZOFFSETFROM:-0500
TZOFFSETTO:-0600
RDATE:20261101T020000
END:STANDARD
BEGIN:DAYLIGHT
TZNAME:CDT
DTSTART:20260308T020000
TZOFFSETFROM:-0600
TZOFFSETTO:-0500
RDATE:20270314T020000
END:DAYLIGHT
END:VTIMEZONE
BEGIN:VEVENT
UID:e59c9b1f-5886-4491-803b-b2569042feaf
DTSTAMP:20260422T010412Z
DESCRIPTION:
DTSTART;TZID=America/Chicago:20260506T180000
DTEND;TZID=America/Chicago:20260506T190000
LOCATION:Sanctuary
SUMMARY:Grace Notes Practice
END:VEVENT
END:VCALENDAR
