BEGIN:VCALENDAR
VERSION:2.0
PRODID:-//beatricemethodist.org//NONSGML kigkonsult.se iCalcreator 2.30.10/
 /
CALSCALE:GREGORIAN
METHOD:PUBLISH
UID:d534b4e8-19d6-46c4-b8bb-9d7a9d8d454f
X-WR-CALDESC:Grades 6-12 meet from 6:30-7:30.  A typical youth group meetin
 g includes a game and a bible lesson or devotion. Outings and service proj
 ects are done each semester.
X-WR-RELCALID:9a11c1420d532261fdcd782eacae7f5f
X-WR-TIMEZONE:America/Chicago
BEGIN:VTIMEZONE
TZID:America/Chicago
BEGIN:STANDARD
TZNAME:CST
DTSTART:20251102T020000
TZOFFSETFROM:-0500
TZOFFSETTO:-0600
RDATE:20261101T020000
END:STANDARD
BEGIN:DAYLIGHT
TZNAME:CDT
DTSTART:20260308T020000
TZOFFSETFROM:-0600
TZOFFSETTO:-0500
RDATE:20270314T020000
END:DAYLIGHT
END:VTIMEZONE
BEGIN:VEVENT
UID:9a293ea1-3f69-466f-be3b-5f44e93c1465
DTSTAMP:20260422T010910Z
DESCRIPTION:Grades 6-12 meet from 6:30-7:30.  A typical youth group meeting
  includes a game and a bible lesson or devotion. Outings and service proje
 cts are done each semester.
DTSTART;TZID=America/Chicago:20260506T183000
DTEND;TZID=America/Chicago:20260506T193000
LOCATION:Dining Room
SUMMARY:Youth Group-Grades 6-12
END:VEVENT
END:VCALENDAR
