BEGIN:VCALENDAR
VERSION:2.0
PRODID:-//beatricemethodist.org//NONSGML kigkonsult.se iCalcreator 2.30.10/
 /
CALSCALE:GREGORIAN
METHOD:PUBLISH
UID:87146263-146d-48fd-81eb-d185cca3315f
X-WR-CALDESC:
X-WR-RELCALID:92866052211c5ebd7231b36a49916a84
X-WR-TIMEZONE:America/Chicago
BEGIN:VTIMEZONE
TZID:America/Chicago
BEGIN:STANDARD
TZNAME:CST
DTSTART:20251102T020000
TZOFFSETFROM:-0500
TZOFFSETTO:-0600
RDATE:20261101T020000
END:STANDARD
BEGIN:DAYLIGHT
TZNAME:CDT
DTSTART:20260308T020000
TZOFFSETFROM:-0600
TZOFFSETTO:-0500
RDATE:20270314T020000
END:DAYLIGHT
END:VTIMEZONE
BEGIN:VEVENT
UID:22b6ebe0-9348-4a9a-97ec-67f9e1b872af
DTSTAMP:20260422T011125Z
DESCRIPTION:
DTSTART;TZID=America/Chicago:20260506T190000
DTEND;TZID=America/Chicago:20260506T200000
LOCATION:
SUMMARY:Al-Anon Meeting--Sharen Holmstrand
END:VEVENT
END:VCALENDAR
