BEGIN:VCALENDAR
VERSION:2.0
PRODID:-//beatricemethodist.org//NONSGML kigkonsult.se iCalcreator 2.30.10/
 /
CALSCALE:GREGORIAN
METHOD:PUBLISH
UID:09af4d36-9f0b-4b3b-9918-076c433a71c5
X-WR-CALDESC:
X-WR-RELCALID:0ed6df02126590ff13ad01a0786d21ed
X-WR-TIMEZONE:America/Chicago
BEGIN:VTIMEZONE
TZID:America/Chicago
BEGIN:STANDARD
TZNAME:CST
DTSTART:20251102T020000
TZOFFSETFROM:-0500
TZOFFSETTO:-0600
RDATE:20261101T020000
END:STANDARD
BEGIN:DAYLIGHT
TZNAME:CDT
DTSTART:20260308T020000
TZOFFSETFROM:-0600
TZOFFSETTO:-0500
RDATE:20270314T020000
END:DAYLIGHT
END:VTIMEZONE
BEGIN:VEVENT
UID:d0c9608e-4be6-4a8b-b312-aa5e6ace67de
DTSTAMP:20260422T010746Z
DESCRIPTION:
DTSTART;TZID=America/Chicago:20260507T114500
DTEND;TZID=America/Chicago:20260507T124500
LOCATION:
SUMMARY:UMW Unit Meeting
END:VEVENT
END:VCALENDAR
