BEGIN:VCALENDAR
VERSION:2.0
PRODID:-//beatricemethodist.org//NONSGML kigkonsult.se iCalcreator 2.30.10/
 /
CALSCALE:GREGORIAN
METHOD:PUBLISH
UID:cb9ae4de-1bc2-4a30-b186-160c7241d135
X-WR-CALDESC:
X-WR-RELCALID:2ef2c27d57ddeebfef718c0e29094533
X-WR-TIMEZONE:America/Chicago
BEGIN:VTIMEZONE
TZID:America/Chicago
BEGIN:STANDARD
TZNAME:CST
DTSTART:20251102T020000
TZOFFSETFROM:-0500
TZOFFSETTO:-0600
RDATE:20261101T020000
RDATE:20271107T020000
END:STANDARD
BEGIN:DAYLIGHT
TZNAME:CDT
DTSTART:20260308T020000
TZOFFSETFROM:-0600
TZOFFSETTO:-0500
RDATE:20270314T020000
END:DAYLIGHT
END:VTIMEZONE
BEGIN:VEVENT
UID:cd2bb012-b19a-4059-8fff-6f6011093294
DTSTAMP:20260422T010853Z
DESCRIPTION:
DTSTART;TZID=America/Chicago:20260510T050000
DTEND;TZID=America/Chicago:20260510T050001
LOCATION:608 Elk St\, Beatrice\, NE 68310 US
SUMMARY:10:00 Sunday Service
END:VEVENT
END:VCALENDAR
