BEGIN:VCALENDAR
VERSION:2.0
PRODID:-//beatricemethodist.org//NONSGML kigkonsult.se iCalcreator 2.30.10/
 /
CALSCALE:GREGORIAN
METHOD:PUBLISH
UID:8ff22fc0-bd54-4ce6-ad24-b7dcb1fa506f
X-WR-CALDESC:
X-WR-RELCALID:65c5ab80e15bee239795712c7f1f15bb
X-WR-TIMEZONE:America/Chicago
BEGIN:VTIMEZONE
TZID:America/Chicago
BEGIN:STANDARD
TZNAME:CST
DTSTART:20251102T020000
TZOFFSETFROM:-0500
TZOFFSETTO:-0600
RDATE:20261101T020000
RDATE:20271107T020000
END:STANDARD
BEGIN:DAYLIGHT
TZNAME:CDT
DTSTART:20260308T020000
TZOFFSETFROM:-0600
TZOFFSETTO:-0500
RDATE:20270314T020000
END:DAYLIGHT
END:VTIMEZONE
BEGIN:VEVENT
UID:0fd5d1d0-1a8a-4d5f-a408-8366785a369a
DTSTAMP:20260422T010659Z
DESCRIPTION:
DTSTART;TZID=America/Chicago:20260513T120000
DTEND;TZID=America/Chicago:20260513T130000
LOCATION:
SUMMARY:Bulletin deadline
END:VEVENT
END:VCALENDAR
