BEGIN:VCALENDAR
VERSION:2.0
PRODID:-//beatricemethodist.org//NONSGML kigkonsult.se iCalcreator 2.30.10/
 /
CALSCALE:GREGORIAN
METHOD:PUBLISH
UID:8582a53e-2506-4676-8dd3-ada2dd6a48d0
X-WR-CALDESC:
X-WR-RELCALID:6c0392a8425db07c703fc8e72f9355ee
X-WR-TIMEZONE:America/Chicago
BEGIN:VTIMEZONE
TZID:America/Chicago
BEGIN:STANDARD
TZNAME:CST
DTSTART:20251102T020000
TZOFFSETFROM:-0500
TZOFFSETTO:-0600
RDATE:20261101T020000
RDATE:20271107T020000
END:STANDARD
BEGIN:DAYLIGHT
TZNAME:CDT
DTSTART:20260308T020000
TZOFFSETFROM:-0600
TZOFFSETTO:-0500
RDATE:20270314T020000
END:DAYLIGHT
END:VTIMEZONE
BEGIN:VEVENT
UID:5b68c5c7-3c10-45c6-8d95-2d08c5efaa8e
DTSTAMP:20260422T011047Z
DESCRIPTION:
DTSTART;TZID=America/Chicago:20260513T190000
DTEND;TZID=America/Chicago:20260513T200000
LOCATION:
SUMMARY:Al-Anon Meeting--Sharen Holmstrand
END:VEVENT
END:VCALENDAR
