BEGIN:VCALENDAR
VERSION:2.0
PRODID:-//beatricemethodist.org//NONSGML kigkonsult.se iCalcreator 2.30.10/
 /
CALSCALE:GREGORIAN
METHOD:PUBLISH
UID:ac81a253-d8c0-44b4-ab44-426aed7b08fe
X-WR-CALDESC:
X-WR-RELCALID:cca2d6bb96ea77ae310a8c6a7d67cf4a
X-WR-TIMEZONE:America/Chicago
BEGIN:VTIMEZONE
TZID:America/Chicago
BEGIN:STANDARD
TZNAME:CST
DTSTART:20251102T020000
TZOFFSETFROM:-0500
TZOFFSETTO:-0600
RDATE:20261101T020000
RDATE:20271107T020000
END:STANDARD
BEGIN:DAYLIGHT
TZNAME:CDT
DTSTART:20260308T020000
TZOFFSETFROM:-0600
TZOFFSETTO:-0500
RDATE:20270314T020000
END:DAYLIGHT
END:VTIMEZONE
BEGIN:VEVENT
UID:dce5c9d2-a1a1-4b6a-a098-f55241a97416
DTSTAMP:20260422T010746Z
DESCRIPTION:
DTSTART;TZID=America/Chicago:20260514T103000
DTEND;TZID=America/Chicago:20260514T113000
LOCATION:High School Room
SUMMARY:Thursday Morning Bible Study
END:VEVENT
END:VCALENDAR
