BEGIN:VCALENDAR
VERSION:2.0
PRODID:-//beatricemethodist.org//NONSGML kigkonsult.se iCalcreator 2.30.10/
 /
CALSCALE:GREGORIAN
METHOD:PUBLISH
UID:4a4ce197-3958-440b-b4c5-35415669817d
X-WR-CALDESC:
X-WR-RELCALID:15d31bc7509714998b724ab7a1bb2cd0
X-WR-TIMEZONE:America/Chicago
BEGIN:VTIMEZONE
TZID:America/Chicago
BEGIN:STANDARD
TZNAME:CST
DTSTART:20251102T020000
TZOFFSETFROM:-0500
TZOFFSETTO:-0600
RDATE:20261101T020000
RDATE:20271107T020000
END:STANDARD
BEGIN:DAYLIGHT
TZNAME:CDT
DTSTART:20260308T020000
TZOFFSETFROM:-0600
TZOFFSETTO:-0500
RDATE:20270314T020000
END:DAYLIGHT
END:VTIMEZONE
BEGIN:VEVENT
UID:f1968aae-1964-4df4-b600-c694b3a09e9b
DTSTAMP:20260422T010533Z
DESCRIPTION:
DTSTART;TZID=America/Chicago:20260518T133000
DTEND;TZID=America/Chicago:20260518T143000
LOCATION:Member's Home
SUMMARY:Deborah Circle
END:VEVENT
END:VCALENDAR
