BEGIN:VCALENDAR
VERSION:2.0
PRODID:-//beatricemethodist.org//NONSGML kigkonsult.se iCalcreator 2.30.10/
 /
CALSCALE:GREGORIAN
METHOD:PUBLISH
UID:539335bc-b436-444c-a838-efc4e68caffc
X-WR-CALDESC:
X-WR-RELCALID:97c850f5e65c07cd95a19c8bfc6cc242
X-WR-TIMEZONE:America/Chicago
BEGIN:VTIMEZONE
TZID:America/Chicago
BEGIN:STANDARD
TZNAME:CST
DTSTART:20251102T020000
TZOFFSETFROM:-0500
TZOFFSETTO:-0600
RDATE:20261101T020000
END:STANDARD
BEGIN:DAYLIGHT
TZNAME:CDT
DTSTART:20260308T020000
TZOFFSETFROM:-0600
TZOFFSETTO:-0500
RDATE:20270314T020000
END:DAYLIGHT
END:VTIMEZONE
BEGIN:VEVENT
UID:e33ac5b2-b27c-4b00-97fc-6ec54032a3d9
DTSTAMP:20260422T030202Z
DESCRIPTION:
DTSTART;TZID=America/Chicago:20260422T173000
DTEND;TZID=America/Chicago:20260422T183000
LOCATION:Sojourner's Room
SUMMARY:Bible Club
END:VEVENT
END:VCALENDAR
