BEGIN:VCALENDAR
VERSION:2.0
PRODID:-//beatricemethodist.org//NONSGML kigkonsult.se iCalcreator 2.30.10/
 /
CALSCALE:GREGORIAN
METHOD:PUBLISH
UID:08370e78-3a31-4428-86fd-e70587bb7a11
X-WR-CALDESC:
X-WR-RELCALID:bc11c14a435164c4cdf0cc49da2bfb39
X-WR-TIMEZONE:America/Chicago
BEGIN:VTIMEZONE
TZID:America/Chicago
BEGIN:STANDARD
TZNAME:CST
DTSTART:20251102T020000
TZOFFSETFROM:-0500
TZOFFSETTO:-0600
RDATE:20261101T020000
END:STANDARD
BEGIN:DAYLIGHT
TZNAME:CDT
DTSTART:20260308T020000
TZOFFSETFROM:-0600
TZOFFSETTO:-0500
RDATE:20270314T020000
END:DAYLIGHT
END:VTIMEZONE
BEGIN:VEVENT
UID:2a4ac611-f970-4612-af52-5486e0a121ac
DTSTAMP:20260422T030456Z
DESCRIPTION:
DTSTART;TZID=America/Chicago:20260422T190000
DTEND;TZID=America/Chicago:20260422T200000
LOCATION:
SUMMARY:Al-Anon Meeting--Sharen Holmstrand
END:VEVENT
END:VCALENDAR
