BEGIN:VCALENDAR
VERSION:2.0
PRODID:-//beatricemethodist.org//NONSGML kigkonsult.se iCalcreator 2.30.10/
 /
CALSCALE:GREGORIAN
METHOD:PUBLISH
UID:9ff6bee1-8379-416d-b677-1f47274e7648
X-WR-CALDESC:
X-WR-RELCALID:dc55765f3fd33aeff0c65d4a7f5e82fb
X-WR-TIMEZONE:America/Chicago
BEGIN:VTIMEZONE
TZID:America/Chicago
BEGIN:STANDARD
TZNAME:CST
DTSTART:20251102T020000
TZOFFSETFROM:-0500
TZOFFSETTO:-0600
RDATE:20261101T020000
END:STANDARD
BEGIN:DAYLIGHT
TZNAME:CDT
DTSTART:20260308T020000
TZOFFSETFROM:-0600
TZOFFSETTO:-0500
RDATE:20270314T020000
END:DAYLIGHT
END:VTIMEZONE
BEGIN:VEVENT
UID:a8d71773-54b4-417f-b249-94298da09615
DTSTAMP:20260422T025735Z
DESCRIPTION:
DTSTART;TZID=America/Chicago:20260429T120000
DTEND;TZID=America/Chicago:20260429T130000
LOCATION:
SUMMARY:Bulletin deadline
END:VEVENT
END:VCALENDAR
