BEGIN:VCALENDAR
VERSION:2.0
PRODID:-//beatricemethodist.org//NONSGML kigkonsult.se iCalcreator 2.30.10/
 /
CALSCALE:GREGORIAN
METHOD:PUBLISH
UID:4d3ee22b-b22c-4d42-974c-6bee1d634361
X-WR-CALDESC:Grades 6-12 meet from 6:30-7:30.  A typical youth group meetin
 g includes a game and a bible lesson or devotion. Outings and service proj
 ects are done each semester.
X-WR-RELCALID:10572260f3ab2b154f78388742991183
X-WR-TIMEZONE:America/Chicago
BEGIN:VTIMEZONE
TZID:America/Chicago
BEGIN:STANDARD
TZNAME:CST
DTSTART:20251102T020000
TZOFFSETFROM:-0500
TZOFFSETTO:-0600
RDATE:20261101T020000
END:STANDARD
BEGIN:DAYLIGHT
TZNAME:CDT
DTSTART:20260308T020000
TZOFFSETFROM:-0600
TZOFFSETTO:-0500
RDATE:20270314T020000
END:DAYLIGHT
END:VTIMEZONE
BEGIN:VEVENT
UID:d1913c57-577e-4b62-97d4-fcc35d5fe54b
DTSTAMP:20260422T025842Z
DESCRIPTION:Grades 6-12 meet from 6:30-7:30.  A typical youth group meeting
  includes a game and a bible lesson or devotion. Outings and service proje
 cts are done each semester.
DTSTART;TZID=America/Chicago:20260429T183000
DTEND;TZID=America/Chicago:20260429T193000
LOCATION:Dining Room
SUMMARY:Youth Group-Grades 6-12
END:VEVENT
END:VCALENDAR
