BEGIN:VCALENDAR
VERSION:2.0
PRODID:-//beatricemethodist.org//NONSGML kigkonsult.se iCalcreator 2.30.10/
 /
CALSCALE:GREGORIAN
METHOD:PUBLISH
UID:e5c2f631-c8c4-48d6-b455-9766a1eba4dd
X-WR-CALDESC:
X-WR-RELCALID:e6cc5d3e79bdb89dcdea310e0111f30d
X-WR-TIMEZONE:America/Chicago
BEGIN:VTIMEZONE
TZID:America/Chicago
BEGIN:STANDARD
TZNAME:CST
DTSTART:20251102T020000
TZOFFSETFROM:-0500
TZOFFSETTO:-0600
RDATE:20261101T020000
END:STANDARD
BEGIN:DAYLIGHT
TZNAME:CDT
DTSTART:20260308T020000
TZOFFSETFROM:-0600
TZOFFSETTO:-0500
RDATE:20270314T020000
END:DAYLIGHT
END:VTIMEZONE
BEGIN:VEVENT
UID:0f4ce9e4-cabc-4218-96aa-79f02fb99ef3
DTSTAMP:20260422T030400Z
DESCRIPTION:
DTSTART;TZID=America/Chicago:20260429T190000
DTEND;TZID=America/Chicago:20260429T200000
LOCATION:
SUMMARY:Al-Anon Meeting--Sharen Holmstrand
END:VEVENT
END:VCALENDAR
