BEGIN:VCALENDAR
VERSION:2.0
PRODID:-//beatricemethodist.org//NONSGML kigkonsult.se iCalcreator 2.30.10/
 /
CALSCALE:GREGORIAN
METHOD:PUBLISH
UID:1c1ba4d2-dadd-41f2-b063-3f32a5c77294
X-WR-CALDESC:
X-WR-RELCALID:03f3de9fc79275c2154d25541de1f383
X-WR-TIMEZONE:America/Chicago
BEGIN:VTIMEZONE
TZID:America/Chicago
BEGIN:STANDARD
TZNAME:CST
DTSTART:20251102T020000
TZOFFSETFROM:-0500
TZOFFSETTO:-0600
RDATE:20261101T020000
END:STANDARD
BEGIN:DAYLIGHT
TZNAME:CDT
DTSTART:20260308T020000
TZOFFSETFROM:-0600
TZOFFSETTO:-0500
RDATE:20270314T020000
END:DAYLIGHT
END:VTIMEZONE
BEGIN:VEVENT
UID:bb9f5080-b176-42da-b6e3-18ffaf42f590
DTSTAMP:20260422T025932Z
DESCRIPTION:
DTSTART;TZID=America/Chicago:20260503T050000
DTEND;TZID=America/Chicago:20260503T050001
LOCATION:608 Elk St\, Beatrice\, NE 68310 US
SUMMARY:10:00 Sunday Service
END:VEVENT
END:VCALENDAR
