BEGIN:VCALENDAR
VERSION:2.0
PRODID:-//beatricemethodist.org//NONSGML kigkonsult.se iCalcreator 2.30.10/
 /
CALSCALE:GREGORIAN
METHOD:PUBLISH
UID:e28f7cc8-93c9-4ebc-8059-027fa109aadd
X-WR-CALDESC:
X-WR-RELCALID:4af55ec935b9f99d1d1d2281a2be6b52
X-WR-TIMEZONE:America/Chicago
BEGIN:VTIMEZONE
TZID:America/Chicago
BEGIN:STANDARD
TZNAME:CST
DTSTART:20251102T020000
TZOFFSETFROM:-0500
TZOFFSETTO:-0600
RDATE:20261101T020000
END:STANDARD
BEGIN:DAYLIGHT
TZNAME:CDT
DTSTART:20260308T020000
TZOFFSETFROM:-0600
TZOFFSETTO:-0500
RDATE:20270314T020000
END:DAYLIGHT
END:VTIMEZONE
BEGIN:VEVENT
UID:b921d5f0-75e3-42ae-a5c9-f2fbd8741d33
DTSTAMP:20260422T025958Z
DESCRIPTION:
DTSTART;TZID=America/Chicago:20260506T120000
DTEND;TZID=America/Chicago:20260506T130000
LOCATION:
SUMMARY:Social Media Deadline
END:VEVENT
END:VCALENDAR
