BEGIN:VCALENDAR
VERSION:2.0
PRODID:-//beatricemethodist.org//NONSGML kigkonsult.se iCalcreator 2.30.10/
 /
CALSCALE:GREGORIAN
METHOD:PUBLISH
UID:29ba6e9c-32ba-49d0-ab45-d5a2bddb9999
X-WR-CALDESC:
X-WR-RELCALID:92b13f912cb69bd2d41a0e10489214ac
X-WR-TIMEZONE:America/Chicago
BEGIN:VTIMEZONE
TZID:America/Chicago
BEGIN:STANDARD
TZNAME:CST
DTSTART:20251102T020000
TZOFFSETFROM:-0500
TZOFFSETTO:-0600
RDATE:20261101T020000
END:STANDARD
BEGIN:DAYLIGHT
TZNAME:CDT
DTSTART:20260308T020000
TZOFFSETFROM:-0600
TZOFFSETTO:-0500
RDATE:20270314T020000
END:DAYLIGHT
END:VTIMEZONE
BEGIN:VEVENT
UID:73d7afeb-ea3b-4962-91e9-ca55eb1e251d
DTSTAMP:20260422T025810Z
DESCRIPTION:
DTSTART;TZID=America/Chicago:20260507T103000
DTEND;TZID=America/Chicago:20260507T113000
LOCATION:High School Room
SUMMARY:Thursday Morning Bible Study
END:VEVENT
END:VCALENDAR
