BEGIN:VCALENDAR
VERSION:2.0
PRODID:-//beatricemethodist.org//NONSGML kigkonsult.se iCalcreator 2.30.10/
 /
CALSCALE:GREGORIAN
METHOD:PUBLISH
UID:16754f79-83dd-4b6f-a2d0-fb7ef546e4de
X-WR-CALDESC:
X-WR-RELCALID:f2951dbdd4940a914ec6c58234682da5
X-WR-TIMEZONE:America/Chicago
BEGIN:VTIMEZONE
TZID:America/Chicago
BEGIN:STANDARD
TZNAME:CST
DTSTART:20251102T020000
TZOFFSETFROM:-0500
TZOFFSETTO:-0600
RDATE:20261101T020000
RDATE:20271107T020000
END:STANDARD
BEGIN:DAYLIGHT
TZNAME:CDT
DTSTART:20260308T020000
TZOFFSETFROM:-0600
TZOFFSETTO:-0500
RDATE:20270314T020000
END:DAYLIGHT
END:VTIMEZONE
BEGIN:VEVENT
UID:750ae3ee-fa40-441f-9e95-fe5c994ea8ef
DTSTAMP:20260422T030121Z
DESCRIPTION:
DTSTART;TZID=America/Chicago:20260513T120000
DTEND;TZID=America/Chicago:20260513T130000
LOCATION:
SUMMARY:Social Media Deadline
END:VEVENT
END:VCALENDAR
