BEGIN:VCALENDAR
VERSION:2.0
PRODID:-//beatricemethodist.org//NONSGML kigkonsult.se iCalcreator 2.30.10/
 /
CALSCALE:GREGORIAN
METHOD:PUBLISH
UID:e99196eb-a98b-4910-beea-bd04ca7d02eb
X-WR-CALDESC:
X-WR-RELCALID:df5b44d4690fcd5d2bb51761b7cf7127
X-WR-TIMEZONE:America/Chicago
BEGIN:VTIMEZONE
TZID:America/Chicago
BEGIN:STANDARD
TZNAME:CST
DTSTART:20251102T020000
TZOFFSETFROM:-0500
TZOFFSETTO:-0600
RDATE:20261101T020000
RDATE:20271107T020000
END:STANDARD
BEGIN:DAYLIGHT
TZNAME:CDT
DTSTART:20260308T020000
TZOFFSETFROM:-0600
TZOFFSETTO:-0500
RDATE:20270314T020000
END:DAYLIGHT
END:VTIMEZONE
BEGIN:VEVENT
UID:843168b5-23a7-4650-ae73-816063aef5fe
DTSTAMP:20260422T025459Z
DESCRIPTION:
DTSTART;TZID=America/Chicago:20260513T140000
DTEND;TZID=America/Chicago:20260513T150000
LOCATION:
SUMMARY:Reading Group
END:VEVENT
END:VCALENDAR
