BEGIN:VCALENDAR
VERSION:2.0
PRODID:-//beatricemethodist.org//NONSGML kigkonsult.se iCalcreator 2.30.10/
 /
CALSCALE:GREGORIAN
METHOD:PUBLISH
UID:1e9486fd-bbbf-43f0-847c-108744d1921a
X-WR-CALDESC:
X-WR-RELCALID:23084092307550f6b6f8c6f2b4a47aab
X-WR-TIMEZONE:America/Chicago
BEGIN:VTIMEZONE
TZID:America/Chicago
BEGIN:STANDARD
TZNAME:CST
DTSTART:20251102T020000
TZOFFSETFROM:-0500
TZOFFSETTO:-0600
RDATE:20261101T020000
RDATE:20271107T020000
END:STANDARD
BEGIN:DAYLIGHT
TZNAME:CDT
DTSTART:20260308T020000
TZOFFSETFROM:-0600
TZOFFSETTO:-0500
RDATE:20270314T020000
END:DAYLIGHT
END:VTIMEZONE
BEGIN:VEVENT
UID:19d20a6e-53be-405e-91d3-38e4c7d0cfff
DTSTAMP:20260422T030237Z
DESCRIPTION:
DTSTART;TZID=America/Chicago:20260513T173000
DTEND;TZID=America/Chicago:20260513T183000
LOCATION:Sojourner's Room
SUMMARY:Bible Club
END:VEVENT
END:VCALENDAR
