BEGIN:VCALENDAR
VERSION:2.0
PRODID:-//beatricemethodist.org//NONSGML kigkonsult.se iCalcreator 2.30.10/
 /
CALSCALE:GREGORIAN
METHOD:PUBLISH
UID:3ce4e4f5-9489-4229-aafb-e384e3acd1da
X-WR-CALDESC:Grades 6-12 meet from 6:30-7:30.  A typical youth group meetin
 g includes a game and a bible lesson or devotion. Outings and service proj
 ects are done each semester.
X-WR-RELCALID:be3ce26fcabc3419bb50af3629e50d6f
X-WR-TIMEZONE:America/Chicago
BEGIN:VTIMEZONE
TZID:America/Chicago
BEGIN:STANDARD
TZNAME:CST
DTSTART:20251102T020000
TZOFFSETFROM:-0500
TZOFFSETTO:-0600
RDATE:20261101T020000
RDATE:20271107T020000
END:STANDARD
BEGIN:DAYLIGHT
TZNAME:CDT
DTSTART:20260308T020000
TZOFFSETFROM:-0600
TZOFFSETTO:-0500
RDATE:20270314T020000
END:DAYLIGHT
END:VTIMEZONE
BEGIN:VEVENT
UID:a7a77c67-d63e-400e-be01-bf68733fde2d
DTSTAMP:20260422T025959Z
DESCRIPTION:Grades 6-12 meet from 6:30-7:30.  A typical youth group meeting
  includes a game and a bible lesson or devotion. Outings and service proje
 cts are done each semester.
DTSTART;TZID=America/Chicago:20260513T183000
DTEND;TZID=America/Chicago:20260513T193000
LOCATION:Dining Room
SUMMARY:Youth Group-Grades 6-12
END:VEVENT
END:VCALENDAR
